BEGIN:VCALENDAR
VERSION:2.0
PRODID:-//El Molino de Olba - ECPv6.15.20//NONSGML v1.0//EN
CALSCALE:GREGORIAN
METHOD:PUBLISH
X-WR-CALNAME:El Molino de Olba
X-ORIGINAL-URL:https://molinolba.com
X-WR-CALDESC:Eventos para El Molino de Olba
REFRESH-INTERVAL;VALUE=DURATION:PT1H
X-Robots-Tag:noindex
X-PUBLISHED-TTL:PT1H
BEGIN:VTIMEZONE
TZID:Europe/Madrid
BEGIN:DAYLIGHT
TZOFFSETFROM:+0100
TZOFFSETTO:+0200
TZNAME:CEST
DTSTART:20250330T010000
END:DAYLIGHT
BEGIN:STANDARD
TZOFFSETFROM:+0200
TZOFFSETTO:+0100
TZNAME:CET
DTSTART:20251026T010000
END:STANDARD
BEGIN:DAYLIGHT
TZOFFSETFROM:+0100
TZOFFSETTO:+0200
TZNAME:CEST
DTSTART:20260329T010000
END:DAYLIGHT
BEGIN:STANDARD
TZOFFSETFROM:+0200
TZOFFSETTO:+0100
TZNAME:CET
DTSTART:20261025T010000
END:STANDARD
BEGIN:DAYLIGHT
TZOFFSETFROM:+0100
TZOFFSETTO:+0200
TZNAME:CEST
DTSTART:20270328T010000
END:DAYLIGHT
BEGIN:STANDARD
TZOFFSETFROM:+0200
TZOFFSETTO:+0100
TZNAME:CET
DTSTART:20271031T010000
END:STANDARD
END:VTIMEZONE
BEGIN:VEVENT
DTSTART;TZID=Europe/Madrid:20260227T170000
DTEND;TZID=Europe/Madrid:20260301T170000
DTSTAMP:20260422T130005
CREATED:20220210T100053Z
LAST-MODIFIED:20251215T125045Z
UID:1922-1772211600-1772384400@molinolba.com
SUMMARY:Vuelve a tu Origen.
DESCRIPTION:Vuelve a tu Origen.\n\nUna experiencia de reconexión profunda donde lo auténtico vuelve a emerger. Un viaje que te invita a escuchar lo que habita en ti con claridad y plenitud\, para recordar que tu verdad más pura siempre ha estado presente\, esperando ser sentida y vivida desde lo simple.\nEn este retiro te adentrarás en el silencio y la sencillez para reconectar con lo más esencial de ti mismo. Es un regreso a lo primario\, a esa raíz profunda que sostiene tu vida\, y que a menudo olvidamos en medio del ruido cotidiano. Aquí se abre un espacio para detenerte\, sentir y dejar que la naturaleza despierte nuevamente tus sentidos. \n-Dinámicas de autoconocimiento.\n-Meditaciones guiadas y en silencio.\n-Yoga adaptado.\n-Comida consciente vegetariana.\n-Alojamiento compartido.\n-Acompañamiento respetuoso. \n\nCon una alimentación rica\, sana y cuidada. Desde el Molino\, te invitamos a disfrutar y deleitarte con los platos que con creatividad y alegría son preparados por el equipo de cocina. Deja que los sabores llenen tu corazón y tu alma.\n\n  \nDías:\ndel 25 de Febrero al 1 de Marzo.\n\n\n  \nPrecio:\n\n380€/Por persona.\nIncluye Retiro y Pensión Completa. \n  \nInformación y Reservas:\n\n\n603 12 57 36 Tamara. \n 
URL:https://molinolba.com/evento/vuelve-a-tu-origen/
LOCATION:El Molino de Olba\, Masía El Molino\, Olba\, Teruel\, 44479\, España
ATTACH;FMTTYPE=image/jpeg:https://molinolba.com/wp-content/uploads/WhatsApp-Image-2025-12-15-at-12.26.21.jpeg
ORGANIZER;CN="El Molino de Olba":MAILTO:molinfo@molinolba.com
END:VEVENT
END:VCALENDAR