BEGIN:VCALENDAR
VERSION:2.0
PRODID:-//El Molino de Olba - ECPv6.15.20//NONSGML v1.0//EN
CALSCALE:GREGORIAN
METHOD:PUBLISH
X-WR-CALNAME:El Molino de Olba
X-ORIGINAL-URL:https://molinolba.com
X-WR-CALDESC:Eventos para El Molino de Olba
REFRESH-INTERVAL;VALUE=DURATION:PT1H
X-Robots-Tag:noindex
X-PUBLISHED-TTL:PT1H
BEGIN:VTIMEZONE
TZID:Europe/Madrid
BEGIN:DAYLIGHT
TZOFFSETFROM:+0100
TZOFFSETTO:+0200
TZNAME:CEST
DTSTART:20240331T010000
END:DAYLIGHT
BEGIN:STANDARD
TZOFFSETFROM:+0200
TZOFFSETTO:+0100
TZNAME:CET
DTSTART:20241027T010000
END:STANDARD
BEGIN:DAYLIGHT
TZOFFSETFROM:+0100
TZOFFSETTO:+0200
TZNAME:CEST
DTSTART:20250330T010000
END:DAYLIGHT
BEGIN:STANDARD
TZOFFSETFROM:+0200
TZOFFSETTO:+0100
TZNAME:CET
DTSTART:20251026T010000
END:STANDARD
BEGIN:DAYLIGHT
TZOFFSETFROM:+0100
TZOFFSETTO:+0200
TZNAME:CEST
DTSTART:20260329T010000
END:DAYLIGHT
BEGIN:STANDARD
TZOFFSETFROM:+0200
TZOFFSETTO:+0100
TZNAME:CET
DTSTART:20261025T010000
END:STANDARD
END:VTIMEZONE
BEGIN:VEVENT
DTSTART;TZID=Europe/Madrid:20250822T180000
DTEND;TZID=Europe/Madrid:20250824T180000
DTSTAMP:20260421T033736
CREATED:20220715T160533Z
LAST-MODIFIED:20250716T201344Z
UID:935-1755885600-1756058400@molinolba.com
SUMMARY:Honra tu Presencia.
DESCRIPTION:Honra tu Presencia.\n\nEste Retiro está diseñado para que conectes con la paz mental\, encuentres un refugio en ti y reconozcas tu cuerpo como ese templo sagrado donde tu alma puede habitar libremente\, en su verdad más pura — esa versión de ti que tanto anhelas y mereces. \n¿Qué viviremos juntos? \n-Talleres y dinámicas para reconectar mente y cuerpo.\n-Alojamiento compartido en un entorno mágico.\n-Alimentación vegetariana\, ecológica y preparada con amor.\n-Tratamientos capilares y faciales.\n-Sorpresas especiales que nutrirán tu experiencia. \nEn Retiro Esencia te acompaña un equipo comprometido con tu bienestar en cuerpo\, mente y alma. \nPaula te acompañará en las dinámicas guiadas de autoconocimiento mediante el psicoanálisis y la reprogramación cognitiva. A través de prácticas de meditación y acompañamiento emocional te ayuda a encontrar claridad\, calma y un espacio seguro en el que podrás ser tu mejor versión. \nAnna te ofrece un espacio de cuidado profundo a través de tratamiento para tu bienestar corporal. Trabaja desde el cuerpo para liberar tensiones\, activar la vitalidad y técnicas corporales que nutren\, relajan y restauran tu energía. \nUn espacio donde podrás honrar tu presencia volviendo a tu bienestar más profundo. \n\n  \nAlimentación: \nCon una alimentación rica\, sana y cuidada. Desde el Molino\, te invitamos a disfrutar y deleitarte con los platos que con creatividad y alegría son preparados por el equipo de cocina. \nDeja que los sabores llenen tu corazón y tu alma. \n\n  \n\nDías:\nDel 22 al 24 de Agosto.\n  \nPrecio:\n480€ por Persona. Incluye el Retiro y la Pensión Completa.\n\n  \nInformación e Inscripciones:\n603.125.736 Tamara\n\n \n 
URL:https://molinolba.com/evento/honra-tu-presencia/
LOCATION:El Molino de Olba\, Masía El Molino\, Olba\, Teruel\, 44479\, España
ATTACH;FMTTYPE=image/jpeg:https://molinolba.com/wp-content/uploads/WhatsApp-Image-2025-07-14-at-14.48.02.jpeg
ORGANIZER;CN="El Molino de Olba":MAILTO:molinfo@molinolba.com
END:VEVENT
BEGIN:VEVENT
DTSTART;TZID=Europe/Madrid:20250814T170000
DTEND;TZID=Europe/Madrid:20250817T170000
DTSTAMP:20260421T033736
CREATED:20201101T171323Z
LAST-MODIFIED:20250514T071107Z
UID:1086-1755190800-1755450000@molinolba.com
SUMMARY:Intensivo de Verano de Biodanza.
DESCRIPTION:RAÍCES\, MÁSCARAS Y ALAS. \nConexión con el Eros Primordial.\n\nRaíces\nMi hogar\, mi territorio conocido\, mi familia. Ese lugar tranquilo\, seguro\, donde se me reconoce y se me valora\, donde me alimento y me desarrollo\, mi sostén interno.\n  \nMáscaras\nLas imágenes que uno tiene de todo lo de afuera y de si mismo. Los lenguajes del mundo y los propios. Las formas con las que me presento\, a veces para ser aceptado y otras para rebelarme y diferenciarme. Todas mis creencias.\n  \nAlas \nEl impulso que me lleva a querer conocer la verdad. Las ganas de descubrir lo que realmente soy. En ocasiones de forma reactiva poniendo limites a todo y a todos. En otros momentos con gran apertura y permeabilidad\, dejando que mis alas sean infinitas. Mi libertad.\n\nNuestra vida danza con estos tres elementos constantemente. Este verano en nuestra propuesta de naturaleza y sexualidad os proponemos un viaje muy especial teniendo en cuenta estos principios en los que se ordena nuestra existencia.\n\nY así despertar el Eros Primordial\, una fuente inagotable de creatividad\, de vitalidad y de placer natural.\n\n  \nEn nuestros intensivos disfrutaras de…\nBiodanza\, basada en la extensión de Rehabilitación de la Sexualidad\, recorriendo también\, la vitalidad\, la creatividad\, la afectividad y la transcendencia\, para poder alcanzar la vivencia de lo sagrado. Extensión de Biodanza voz y percusión. Danzas trance\, danzas que despiertan el instinto\, danzas que desatan el erotismo…\n  \nMasaje\, por la forma maravillosa en la que facilita el contacto\, la sensibilidad corporal\, elimina tabúes\, y devuelve la naturalidad\, de forma muy progresiva y respetuosa\, desde el cuidado.\n  \nArcilla\, que nos llevará a disolver nuestras formas aprendidas para nacer a otras frescas y renovadas.\n  \nExpresión Artística\, abriéndonos a la pintura vivencial\, meditativa y reveladora. Que se expresa desde la inocencia y espontaneidad creativa y libre de cada participante. Jugando con el color y las formas. También experimentaremos la pintura corporal y la escritura creativa.\n  \nTendremos paseos por la Naturaleza y prácticas de conexión en lugares muy especiales del valle donde sentimos que hay una vibración muy elevada\, baños en el rio para l@s más atrevidas y muchas más sorpresas.\n  \nDirigido a toda persona que quiera explorar esta energía tan creadora\, con experiencia en Biodanza o en otras prácticas que estén en la línea del trabajo personal y el trabajo con el cuerpo.\n  \nEn un precioso lugar donde la naturaleza te envuelve. Con una alimentación rica\, sana y cuidada. Desde el Molino\, te invitamos a disfrutar y deleitarte con los platos que con creatividad y alegría son preparados por el equipo de cocina. Deja que los sabores llenen tu corazón y tu alma. \n  \nFacilitan\nPablo & Soraya\, facilitadores de grupos y desarrollo humano en procesos de crecimiento personal\, a través del cuerpo y la expresión. Titulados en Biodanza SRT\, con más de 10 años de experiencia y extensiones en la misma. Especializados en «Rehabilitación de la Sexualidad y Masaje Sensual». » Biodanza en Masaje» \, «lectura corporal»\, «Educación Biocéntrica»\, «Biodanza en Arcilla» (Pablo)\, Biodanza» Voz y Percusión»\,» Sistema Biocéntrico para organizaciones SBO» y Licenciada en Bellas Artes (Soraya). También formados en masaje californiano. Masaje Tailandés y Hamacados Armónicos (Pablo)\, Maestra de Reiki (Soraya)… Con una inquietud en común\, explorar y recuperar la esencia auténtica\, salvaje y libre del Ser.\nTe esperamos!!!Soraya y Pablo\n\n  \nDías: \ndel 14 al 17 de Agosto . \n  \nPrecio: \n390€ por Persona pronto pago\, en habitación compartida en literas\, hasta el 1 agosto.  \n450€ por Persona\, en habitación compartida\, a partir del 2 de agosto. \n  \nInformación y Reservas:\n667 741 326. biodanzapablo@gmail.com\n658 10 63 79. sayarbiodanza@gmail.com\n 
URL:https://molinolba.com/evento/intensivo-de-verano-de-biodanza/
LOCATION:El Molino de Olba\, Masía El Molino\, Olba\, Teruel\, 44479\, España
ATTACH;FMTTYPE=image/jpeg:https://molinolba.com/wp-content/uploads/Imagen-3.jpg
ORGANIZER;CN="El Molino de Olba":MAILTO:molinfo@molinolba.com
END:VEVENT
END:VCALENDAR